BEGIN:VCALENDAR
VERSION:2.0
PRODID:-//MYCO - ECPv4.9.13//NONSGML v1.0//EN
CALSCALE:GREGORIAN
METHOD:PUBLISH
X-WR-CALNAME:MYCO
X-ORIGINAL-URL:https://mycolove.com
X-WR-CALDESC:Events for MYCO
BEGIN:VTIMEZONE
TZID:Asia/Jerusalem
BEGIN:DAYLIGHT
TZOFFSETFROM:+0200
TZOFFSETTO:+0300
TZNAME:IDT
DTSTART:20230324T000000
END:DAYLIGHT
BEGIN:STANDARD
TZOFFSETFROM:+0300
TZOFFSETTO:+0200
TZNAME:IST
DTSTART:20231028T230000
END:STANDARD
END:VTIMEZONE
BEGIN:VEVENT
DTSTART;TZID=Asia/Jerusalem:20230228T200000
DTEND;TZID=Asia/Jerusalem:20230228T230000
DTSTAMP:20260425T123136
CREATED:20230222T124711Z
LAST-MODIFIED:20230223T103439Z
UID:160157-1677614400-1677625200@mycolove.com
SUMMARY:🎭 DanCity Tribe #10 Purim Edition ~ Collabo ~ 28.2.23 🎭
DESCRIPTION:
URL:https://mycolove.com/event/dancitytribepurim/
LOCATION:Collabo – Myco House\, בן צבי 47\, Tel Aviv\, Israel
CATEGORIES:DanCity Temple
ATTACH;FMTTYPE=image/jpeg:https://mycolove.com/wp-content/uploads/2023/02/תמונה-של-WhatsApp‏-2023-02-22-בשעה-14.25.03.jpg
END:VEVENT
END:VCALENDAR