BEGIN:VCALENDAR
VERSION:2.0
PRODID:-//MYCO - ECPv4.9.13//NONSGML v1.0//EN
CALSCALE:GREGORIAN
METHOD:PUBLISH
X-WR-CALNAME:MYCO
X-ORIGINAL-URL:https://mycolove.com
X-WR-CALDESC:Events for MYCO
BEGIN:VTIMEZONE
TZID:Asia/Jerusalem
BEGIN:DAYLIGHT
TZOFFSETFROM:+0200
TZOFFSETTO:+0300
TZNAME:IDT
DTSTART:20230324T000000
END:DAYLIGHT
BEGIN:STANDARD
TZOFFSETFROM:+0300
TZOFFSETTO:+0200
TZNAME:IST
DTSTART:20231028T230000
END:STANDARD
END:VTIMEZONE
BEGIN:VEVENT
DTSTART;TZID=Asia/Jerusalem:20230306T220000
DTEND;TZID=Asia/Jerusalem:20230307T080000
DTSTAMP:20260425T001622
CREATED:20230209T161424Z
LAST-MODIFIED:20230306T211116Z
UID:159165-1678140000-1678176000@mycolove.com
SUMMARY:Purim Odyssey - Myco & Ratzif @ Collabo // 6.3
DESCRIPTION:
URL:https://mycolove.com/event/purimodyssey/
LOCATION:Collabo – Myco House\, בן צבי 47\, Tel Aviv\, Israel
CATEGORIES:Myco Purim,mycocollabo
ATTACH;FMTTYPE=image/png:https://mycolove.com/wp-content/uploads/2023/02/Cover.png
END:VEVENT
END:VCALENDAR