BEGIN:VCALENDAR
VERSION:2.0
PRODID:-//MYCO - ECPv4.9.13//NONSGML v1.0//EN
CALSCALE:GREGORIAN
METHOD:PUBLISH
X-WR-CALNAME:MYCO
X-ORIGINAL-URL:https://mycolove.com
X-WR-CALDESC:Events for MYCO
BEGIN:VTIMEZONE
TZID:Asia/Jerusalem
BEGIN:DAYLIGHT
TZOFFSETFROM:+0200
TZOFFSETTO:+0300
TZNAME:IDT
DTSTART:20230324T000000
END:DAYLIGHT
BEGIN:STANDARD
TZOFFSETFROM:+0300
TZOFFSETTO:+0200
TZNAME:IST
DTSTART:20231028T230000
END:STANDARD
END:VTIMEZONE
BEGIN:VEVENT
DTSTART;TZID=Asia/Jerusalem:20230309T160000
DTEND;TZID=Asia/Jerusalem:20230311T160000
DTSTAMP:20260424T203857
CREATED:20221205T143530Z
LAST-MODIFIED:20240122T141600Z
UID:150463-1678377600-1678550400@mycolove.com
SUMMARY:✯〠✯ MYCOTOWN ▪ Purim 2023 ▪ 9-11/3 ▪ The Kingdom of Delusions ✯〠✯
DESCRIPTION:
URL:https://mycolove.com/event/mycotown2023/
LOCATION:חאן נחל ערבה
CATEGORIES:Myco Purim
ATTACH;FMTTYPE=image/jpeg:https://mycolove.com/wp-content/uploads/2022/12/EVENTBANNER1920X1080-NOTXT-copy-2.jpg
END:VEVENT
END:VCALENDAR