BEGIN:VCALENDAR
VERSION:2.0
PRODID:-//MYCO - ECPv4.9.13//NONSGML v1.0//EN
CALSCALE:GREGORIAN
METHOD:PUBLISH
X-WR-CALNAME:MYCO
X-ORIGINAL-URL:https://mycolove.com
X-WR-CALDESC:Events for MYCO
BEGIN:VTIMEZONE
TZID:Asia/Jerusalem
BEGIN:DAYLIGHT
TZOFFSETFROM:+0200
TZOFFSETTO:+0300
TZNAME:IDT
DTSTART:20230324T000000
END:DAYLIGHT
BEGIN:STANDARD
TZOFFSETFROM:+0300
TZOFFSETTO:+0200
TZNAME:IST
DTSTART:20231028T230000
END:STANDARD
END:VTIMEZONE
BEGIN:VEVENT
DTSTART;TZID=Asia/Jerusalem:20230321T200000
DTEND;TZID=Asia/Jerusalem:20230322T200000
DTSTAMP:20260423T152854
CREATED:20230314T175742Z
LAST-MODIFIED:20230315T200625Z
UID:162275-1679428800-1679515200@mycolove.com
SUMMARY:✯ DanCity Tribe  ~ Collabo ~ 21.3.23 ✯
DESCRIPTION:
URL:https://mycolove.com/event/dancitytribe11/
CATEGORIES:DanCity Temple
ATTACH;FMTTYPE=image/jpeg:https://mycolove.com/wp-content/uploads/2023/03/banner-גרפיקה-1.jpg
END:VEVENT
END:VCALENDAR