BEGIN:VCALENDAR
VERSION:2.0
PRODID:-//MYCO - ECPv4.9.13//NONSGML v1.0//EN
CALSCALE:GREGORIAN
METHOD:PUBLISH
X-WR-CALNAME:MYCO
X-ORIGINAL-URL:https://mycolove.com
X-WR-CALDESC:Events for MYCO
BEGIN:VTIMEZONE
TZID:Asia/Jerusalem
BEGIN:DAYLIGHT
TZOFFSETFROM:+0200
TZOFFSETTO:+0300
TZNAME:IDT
DTSTART:20230324T000000
END:DAYLIGHT
BEGIN:STANDARD
TZOFFSETFROM:+0300
TZOFFSETTO:+0200
TZNAME:IST
DTSTART:20231028T230000
END:STANDARD
END:VTIMEZONE
BEGIN:VEVENT
DTSTART;TZID=Asia/Jerusalem:20230601T160000
DTEND;TZID=Asia/Jerusalem:20230603T170000
DTSTAMP:20260419T173840
CREATED:20230417T095324Z
LAST-MODIFIED:20230419T131144Z
UID:165573-1685635200-1685811600@mycolove.com
SUMMARY:♡ Loveolution︙SUMMER LOVE ︙1-3th June 2023 ♡
DESCRIPTION:
URL:https://mycolove.com/event/loveolutionsummer/
CATEGORIES:lovelution
ATTACH;FMTTYPE=image/jpeg:https://mycolove.com/wp-content/uploads/2023/04/WhatsApp-Image-2023-04-17-at-12.08.38-PM.jpeg
END:VEVENT
BEGIN:VEVENT
DTSTART;TZID=Asia/Jerusalem:20230602T230000
DTEND;TZID=Asia/Jerusalem:20230603T230000
DTSTAMP:20260419T173840
CREATED:20230423T101135Z
LAST-MODIFIED:20230617T210337Z
UID:166469-1685746800-1685833200@mycolove.com
SUMMARY:EKLEKTI 5.0 🦩 Summer Starter 🦩 Collabo 🦩 02.06.23
DESCRIPTION:
URL:https://mycolove.com/event/eklektosummer/
LOCATION:Collabo – Myco House\, בן צבי 47\, Tel Aviv\, Israel
ATTACH;FMTTYPE=image/jpeg:https://mycolove.com/wp-content/uploads/2023/04/WhatsApp-Image-2023-04-23-at-12.30.43-PM.jpeg
END:VEVENT
END:VCALENDAR