BEGIN:VCALENDAR
VERSION:2.0
PRODID:-//MYCO - ECPv4.9.13//NONSGML v1.0//EN
CALSCALE:GREGORIAN
METHOD:PUBLISH
X-WR-CALNAME:MYCO
X-ORIGINAL-URL:https://mycolove.com
X-WR-CALDESC:Events for MYCO
BEGIN:VTIMEZONE
TZID:Asia/Jerusalem
BEGIN:DAYLIGHT
TZOFFSETFROM:+0200
TZOFFSETTO:+0300
TZNAME:IDT
DTSTART:20230324T000000
END:DAYLIGHT
BEGIN:STANDARD
TZOFFSETFROM:+0300
TZOFFSETTO:+0200
TZNAME:IST
DTSTART:20231028T230000
END:STANDARD
END:VTIMEZONE
BEGIN:VEVENT
DTSTART;TZID=Asia/Jerusalem:20230615T213000
DTEND;TZID=Asia/Jerusalem:20230616T030000
DTSTAMP:20260424T035503
CREATED:20230501T081109Z
LAST-MODIFIED:20230617T223514Z
UID:167742-1686864600-1686884400@mycolove.com
SUMMARY:✥ The Burning Castle ✥ 15.6 ✥
DESCRIPTION:
URL:https://mycolove.com/event/burningcastle/
LOCATION:הטרמינל לעיצוב\, אוהד קינמון 32\, בת ים\, Israel
CATEGORIES:Live Show,The Burning Castle
ATTACH;FMTTYPE=image/jpeg:https://mycolove.com/wp-content/uploads/2023/05/WhatsApp-Image-2023-04-30-at-9.30.16-PM.jpeg
END:VEVENT
END:VCALENDAR