BEGIN:VCALENDAR
VERSION:2.0
PRODID:-//MYCO - ECPv4.9.13//NONSGML v1.0//EN
CALSCALE:GREGORIAN
METHOD:PUBLISH
X-WR-CALNAME:MYCO
X-ORIGINAL-URL:https://mycolove.com
X-WR-CALDESC:Events for MYCO
BEGIN:VTIMEZONE
TZID:Asia/Jerusalem
BEGIN:DAYLIGHT
TZOFFSETFROM:+0200
TZOFFSETTO:+0300
TZNAME:IDT
DTSTART:20240329T000000
END:DAYLIGHT
BEGIN:STANDARD
TZOFFSETFROM:+0300
TZOFFSETTO:+0200
TZNAME:IST
DTSTART:20241026T230000
END:STANDARD
END:VTIMEZONE
BEGIN:VEVENT
DTSTART;VALUE=DATE:20240727
DTEND;VALUE=DATE:20240728
DTSTAMP:20260424T075308
CREATED:20240604T152945Z
LAST-MODIFIED:20240713T172918Z
UID:182922-1722038400-1722124799@mycolove.com
SUMMARY:MycoLand- Tropical Trip/ 27.7
DESCRIPTION:
URL:https://mycolove.com/event/mycoland-tropical-trip-27-7/
ATTACH;FMTTYPE=image/png:https://mycolove.com/wp-content/uploads/2024/06/צילום-מסך-2024-07-13-ב-12.24.27.png
END:VEVENT
END:VCALENDAR